BEGIN:VCALENDAR
VERSION:2.0
PRODID:-//LeaHolz.com - ECPv6.15.20//NONSGML v1.0//EN
CALSCALE:GREGORIAN
METHOD:PUBLISH
X-WR-CALNAME:LeaHolz.com
X-ORIGINAL-URL:https://leaholz.com
X-WR-CALDESC:Events for LeaHolz.com
REFRESH-INTERVAL;VALUE=DURATION:PT1H
X-Robots-Tag:noindex
X-PUBLISHED-TTL:PT1H
BEGIN:VTIMEZONE
TZID:America/New_York
BEGIN:DAYLIGHT
TZOFFSETFROM:-0500
TZOFFSETTO:-0400
TZNAME:EDT
DTSTART:20220313T070000
END:DAYLIGHT
BEGIN:STANDARD
TZOFFSETFROM:-0400
TZOFFSETTO:-0500
TZNAME:EST
DTSTART:20221106T060000
END:STANDARD
BEGIN:DAYLIGHT
TZOFFSETFROM:-0500
TZOFFSETTO:-0400
TZNAME:EDT
DTSTART:20230312T070000
END:DAYLIGHT
BEGIN:STANDARD
TZOFFSETFROM:-0400
TZOFFSETTO:-0500
TZNAME:EST
DTSTART:20231105T060000
END:STANDARD
BEGIN:DAYLIGHT
TZOFFSETFROM:-0500
TZOFFSETTO:-0400
TZNAME:EDT
DTSTART:20240310T070000
END:DAYLIGHT
BEGIN:STANDARD
TZOFFSETFROM:-0400
TZOFFSETTO:-0500
TZNAME:EST
DTSTART:20241103T060000
END:STANDARD
END:VTIMEZONE
BEGIN:VEVENT
DTSTART;TZID=America/New_York:20230829T190000
DTEND;TZID=America/New_York:20230829T220000
DTSTAMP:20260423T115806
CREATED:20240513T032013Z
LAST-MODIFIED:20240513T033701Z
UID:3554-1693335600-1693346400@leaholz.com
SUMMARY:Breaking Sound at Union District Oyster Bar and Lounge
DESCRIPTION:
URL:https://leaholz.com/event/breaking-sound-at-union-district-oyster-bar-and-lounge/
LOCATION:Union District Oyster Bar and Lounge\, Washington\, DC
CATEGORIES:Music
END:VEVENT
BEGIN:VEVENT
DTSTART;TZID=America/New_York:20230810T190000
DTEND;TZID=America/New_York:20230810T210000
DTSTAMP:20260423T115806
CREATED:20240513T032059Z
LAST-MODIFIED:20240513T033702Z
UID:3557-1691694000-1691701200@leaholz.com
SUMMARY:The DMV Makes Music Songwriter's Showcase
DESCRIPTION:
URL:https://leaholz.com/event/the-dmv-makes-music-songwriters-showcase-3/
LOCATION:Tight Five Pub\, 2471 18th St NW\, Washington\, DC
CATEGORIES:Music
END:VEVENT
BEGIN:VEVENT
DTSTART;TZID=America/New_York:20230806T190000
DTEND;TZID=America/New_York:20230806T203000
DTSTAMP:20260423T115806
CREATED:20240513T032149Z
LAST-MODIFIED:20240513T033702Z
UID:3559-1691348400-1691353800@leaholz.com
SUMMARY:Trusty's Full-Serve
DESCRIPTION:
URL:https://leaholz.com/event/trustys-full-serve/
LOCATION:Trusty’s\, Washington\, DC
CATEGORIES:Music
END:VEVENT
BEGIN:VEVENT
DTSTART;TZID=America/New_York:20230805T193000
DTEND;TZID=America/New_York:20230805T220000
DTSTAMP:20260423T115806
CREATED:20240513T032326Z
LAST-MODIFIED:20240513T033702Z
UID:3562-1691263800-1691272800@leaholz.com
SUMMARY:Tessa Elaina's EP Release for "The Both of Us"
DESCRIPTION:
URL:https://leaholz.com/event/tessa-elainas-ep-release-for-the-both-of-us/
LOCATION:Art Space Herndon\, Herndon\, VA
CATEGORIES:Music
END:VEVENT
BEGIN:VEVENT
DTSTART;TZID=America/New_York:20230803T183000
DTEND;TZID=America/New_York:20230803T203000
DTSTAMP:20260423T115806
CREATED:20240513T032404Z
LAST-MODIFIED:20240513T033702Z
UID:3565-1691087400-1691094600@leaholz.com
SUMMARY:Big Bear Cafe
DESCRIPTION:
URL:https://leaholz.com/event/big-bear-cafe/
LOCATION:Big Bear Cafe\, Washington DC
CATEGORIES:Music
END:VEVENT
BEGIN:VEVENT
DTSTART;TZID=America/New_York:20230728T190000
DTEND;TZID=America/New_York:20230728T210000
DTSTAMP:20260423T115806
CREATED:20240513T032444Z
LAST-MODIFIED:20240513T033702Z
UID:3567-1690570800-1690578000@leaholz.com
SUMMARY:Hells Bottom VFW
DESCRIPTION:
URL:https://leaholz.com/event/hells-bottom-vfw/
LOCATION:Veterans of Foreign Wars Post 350\, Takoma Park\, DC
CATEGORIES:Music
END:VEVENT
BEGIN:VEVENT
DTSTART;TZID=America/New_York:20230716T150000
DTEND;TZID=America/New_York:20230716T170000
DTSTAMP:20260423T115806
CREATED:20240513T032527Z
LAST-MODIFIED:20240513T033703Z
UID:3569-1689519600-1689526800@leaholz.com
SUMMARY:That Sunday Sound: Songwriters Edition
DESCRIPTION:
URL:https://leaholz.com/event/that-sunday-sound-songwriters-edition/
LOCATION:Hellbender Brewing\, Washington\, DC
CATEGORIES:Music
END:VEVENT
BEGIN:VEVENT
DTSTART;TZID=America/New_York:20230625T190000
DTEND;TZID=America/New_York:20230625T210000
DTSTAMP:20260423T115806
CREATED:20240513T032610Z
LAST-MODIFIED:20240513T033703Z
UID:3572-1687719600-1687726800@leaholz.com
SUMMARY:DMV Makes Music: Songwriter Showcase
DESCRIPTION:
URL:https://leaholz.com/event/dmv-makes-music-songwriter-showcase/
LOCATION:Denizens Brewing Co.\, Silver Spring\, MD
CATEGORIES:Music
END:VEVENT
BEGIN:VEVENT
DTSTART;TZID=America/New_York:20230618T190000
DTEND;TZID=America/New_York:20230618T210000
DTSTAMP:20260423T115806
CREATED:20240513T030733Z
LAST-MODIFIED:20240513T030733Z
UID:3533-1687114800-1687122000@leaholz.com
SUMMARY:The Folk Days of Summer
DESCRIPTION:
URL:https://leaholz.com/event/the-folk-days-of-summer/
LOCATION:DC Brau\, Washington\, DC
END:VEVENT
BEGIN:VEVENT
DTSTART;TZID=America/New_York:20230517T193000
DTEND;TZID=America/New_York:20230517T210000
DTSTAMP:20260423T115806
CREATED:20240513T032758Z
LAST-MODIFIED:20240513T032758Z
UID:3576-1684351800-1684357200@leaholz.com
SUMMARY:The 9 Songwriter Series
DESCRIPTION:
URL:https://leaholz.com/event/the-9-songwriter-series/
LOCATION:Pearl Street Warehouse\, Washington\, DC
END:VEVENT
END:VCALENDAR